BEGIN:VCALENDAR
VERSION:2.0
PRODID:icalendar-ruby
CALSCALE:GREGORIAN
METHOD:PUBLISH
BEGIN:VEVENT
DTSTAMP:20260425T103119Z
UID:180-511993@aechurch.org
DTSTART:20260517T163000Z
DTEND:20260517T180000Z
CLASS:PUBLIC
CREATED:20260423T084758
DESCRIPTION:Join us as we work to beautify our campus.
LAST-MODIFIED:20260423T084758
LOCATION:
SUMMARY:All Parish Garden Cleanup
URL;VALUE=URI:https://www.aechurch.org/events/all-parish-garden-cleanup/202
 6-05-17
ATTACH;FILENAME=IMG_20160604_114711.jpg;FMTTYPE=image/jpeg:https://dq5pwpg1
 q8ru0.cloudfront.net/2026/04/23/13/47/58/d146865b-04b3-491f-9d79-69a45c7aa
 1bf/IMG_20160604_114711.jpg
END:VEVENT
END:VCALENDAR
