BEGIN:VCALENDAR
VERSION:2.0
PRODID:icalendar-ruby
CALSCALE:GREGORIAN
METHOD:PUBLISH
BEGIN:VEVENT
DTSTAMP:20260425T103136Z
UID:179-496654@aechurch.org
DTSTART:20260515T000000Z
DTEND:20260515T020000Z
CLASS:PUBLIC
CREATED:20260416T085457
DESCRIPTION:Join us as we celebrate 180 years are a church community!  We 
 also conclude our celebration of the 4th anniversary of the installation o
 f the Dobson pipe organ.  \nHoly Eucharist at 7:00 p.m. with guest organ
 ist Bill Chouinard.\nReception to follow.\nAll are welcome.
LAST-MODIFIED:20260416T085457
LOCATION:214 3rd Street N.\, Stillwater\, Minnesota 55082
SUMMARY:Ascension Day
URL;VALUE=URI:https://www.aechurch.org/events/ascension-day/2026-05-14
END:VEVENT
END:VCALENDAR
