BEGIN:VCALENDAR
VERSION:2.0
PRODID:icalendar-ruby
CALSCALE:GREGORIAN
METHOD:PUBLISH
BEGIN:VEVENT
DTSTAMP:20260425T102714Z
UID:178-496653@aechurch.org
DTSTART;VALUE=DATE:20260503
DTEND;VALUE=DATE:20260503
CLASS:PUBLIC
CREATED:20260416T085016
DESCRIPTION:Bishop Loya will be with us\, celebrating both Liturgies (8:00 
 a.m. &amp\; 10:00 a.m.).\nThe 10:00 service will include Confirmations\, R
 epections into the Church\, and Reaffirmations of Faith.\nAfter the servic
 e\, we will all gather on the front lawn of the church for a parish photo.
 \nThen\, we proceed up to the Erickson Plaza for a dedication ceremony and
  picnic lunch.\nAll are invited!
LAST-MODIFIED:20260416T085016
LOCATION:
SUMMARY:Bishop's Visit
URL;VALUE=URI:https://www.aechurch.org/events/bishops-visit--178/2026-05-03
END:VEVENT
END:VCALENDAR
