BEGIN:VCALENDAR
VERSION:2.0
PRODID:icalendar-ruby
CALSCALE:GREGORIAN
METHOD:PUBLISH
BEGIN:VEVENT
DTSTAMP:20260425T102438Z
UID:181-511994@aechurch.org
DTSTART:20260509T140000Z
DTEND:20260509T160000Z
CLASS:PUBLIC
CREATED:20260423T090839
DESCRIPTION:
LAST-MODIFIED:20260423T090839
LOCATION:
SUMMARY:Healing Touch Community Offering
URL;VALUE=URI:https://www.aechurch.org/events/healing-touch-community-offer
 ing--181/2026-05-09
ATTACH;FILENAME=201A1035.jpg;FMTTYPE=image/jpeg:https://dq5pwpg1q8ru0.cloud
 front.net/2026/04/23/14/08/39/e8a810ba-ec04-4461-9909-2557d4ce711a/201A103
 5.jpg
END:VEVENT
END:VCALENDAR
